BEGIN:VCALENDAR
VERSION:2.0
PRODID:icalendar-ruby
CALSCALE:GREGORIAN
METHOD:PUBLISH
BEGIN:VEVENT
DTSTAMP:20260420T203520Z
UID:119-393266@ubbcamelia.org
DTSTART:20260913T130000Z
DTEND:20260913T140000Z
CLASS:PUBLIC
CREATED:20260420T143014
DESCRIPTION:Please see Deacon Douglas Jackson for a book. 
LAST-MODIFIED:20260420T143014
LOCATION:UBBC
SUMMARY:Sunday School 
URL;VALUE=URI:https://www.ubbcamelia.org/events/sunday-school/2026-09-13
ATTACH;FILENAME=Sundayschool2024.png;FMTTYPE=image/png:https://dq5pwpg1q8ru
 0.cloudfront.net/2026/01/05/00/47/53/f65da845-cc0c-4daa-902b-6e5e4da959df/
 Sundayschool2024.png
END:VEVENT
END:VCALENDAR
